BEGIN:VCALENDAR
VERSION:2.0
CALSCALE:GREGORIAN
PRODID:adamgibbons/ics
METHOD:PUBLISH
X-PUBLISHED-TTL:PT1H
BEGIN:VEVENT
UID:78@bootblack.events
SUMMARY:Bootblack Stand @ London Alternative Market
DTSTAMP:20260424T181302Z
DTSTART:20250302T110000Z
URL:https://bootblack.events/event/bootblack-stand-london-alternative-marke
	t
GEO:51.515545;-0.120776
LOCATION:Sway Bar London - 61-65 Great Queen St\, WC2B 5BZ
STATUS:CONFIRMED
CATEGORIES:UK,Bootblack Stand,London
END:VEVENT
BEGIN:VEVENT
UID:63@bootblack.events
SUMMARY:Bootblack Stand at the London Alternative Market
DTSTAMP:20260424T181302Z
DTSTART:20250202T110000Z
DESCRIPTION:In the Cocktail room there will be a Bootblack Stand. We bootbl
	ack to provide a\nservice to others in our community\, creating an environ
	ment for discussion\, play\nand learning.⁠ It's not just shoes bootblacks 
	can care for. Your leather\ngarments\, impact toys and restraints can rece
	ive the TLC treatment too.⁠\n\n⁠Get your tickets now at https://www.ticket
	tailor.com/events/lamevents/708999\n[https://www.tickettailor.com/events/l
	amevents/708999]⁠\n\n⁠More Info about the event: https://londonalternative
	market.com/\n[https://londonalternativemarket.com/]
URL:https://bootblack.events/event/bootblack-stand-at-the-london-alternativ
	e-market
GEO:51.515545;-0.120776
LOCATION:Sway Bar London - 61-65 Great Queen St\, WC2B 5BZ
STATUS:CONFIRMED
CATEGORIES:UK,Bootblack Stand,London
X-ALT-DESC;FMTTYPE=text/html:<p>In the Cocktail room there will be a Bootbl
	ack Stand. We bootblack to provide a service to others in our community, c
	reating an environment for discussion, play and learning.⁠ It's not just s
	hoes bootblacks can care for. Your leather garments, impact toys and restr
	aints can receive the TLC treatment too.⁠</p><p>⁠Get your tickets now at <
	a target="_blank" href="https://www.tickettailor.com/events/lamevents/7089
	99">https://www.tickettailor.com/events/lamevents/708999</a>⁠</p><p>⁠More 
	Info about the event: <a target="_blank" href="https://londonalternativema
	rket.com/">https://londonalternativemarket.com/</a></p>
END:VEVENT
END:VCALENDAR
